BEGIN:VCALENDAR
VERSION:2.0
PRODID:-//http://www.tainiothiki.gr///NONSGML kigkonsult.se iCalcreator 2.10.15//
METHOD:PUBLISH
BEGIN:VEVENT
UID:20260422T123423EEST-2023r6Xmue@http://www.tainiothiki.gr/
DTSTAMP:20260422T093423Z
DESCRIPTION:14ο Φεστιβάλ Πρωτοποριακού Κινηματογράφου Αθηνών | 14th Athens 
 Avant Garde Film Festival\nINSTITUT FRANÇAIS DE GRÈCE\nΠΕΜΠΤΗ 11 ΔΕΚΕΜΒΡΙΟ
 Υ\n20:30 Masterclass: Jean-Gabriel Périot\nΣυντονισμός / Moderation:\nΜαρί
 α Κουρκούτα\, κινηματογραφίστρια / Maria Kourkouta\, filmmaker\nΣτα γαλλικ
 ά με ταυτόχρονη διερμηνεία στα ελληνικά / In French with simultaneous inte
 rpretation into Greek\nΕίσοδος ελεύθερη. Θα τηρηθεί σειρά προτεραιότητας. 
 / Free admission. Priority will be given in order of arrival.\n \n\n\n\n\n
 \n\n\nΕΙΣΙΤΗΡΙΑ\nΑΙΘΟΥΣΕΣ\nΕισιτήρια (ΑΙΘΟΥΣΕΣ): 7€ (γενική είσοδος)\nΠακέ
 τα:Κάρτα 5 προβολών 30€ - 25€ μειωμένο* (θα διατεθούν μέχρι 40 κάρτες)Κάρτ
 α 10 προβολών 50€ - 40€ μειωμένο* (θα διατεθούν μέχρι 30 κάρτες)\n*Το μειω
 μένο εισιτήριο αφορά στις παρακάτω κατηγορίες:μαθητές\, φοιτητές\, άτομα ά
 νω των 65 ετών\, άνεργοι\, άνθρωποι με αναπηρία – ΑμεΑ (ισχύει και για ένα
 ν/μία συνοδό)\, δάσκαλοι-καθηγητές\, ατέλειες.\nΗλεκτρονική προπώληση εισι
 τηρίων στο more.com\n\nΕιδική προσφορά για φοιτητές/φοιτήτριες:\nΤο Φεστιβ
 άλ προσφέρει δωρεάν είσοδο στους πρώτους 30 φοιτητές για όλες τις προβολές
  που θα πραγματοποιηθούν στην Κεντρική Αίθουσα Α της Ταινιοθήκης της Ελλάδ
 ος\, με εξαίρεση την προβολή της ταινίας έναρξης\, της ταινίας απονομής τω
 ν βραβείων\, καθώς και την προβολή της βωβής ταινίας συνοδεία ζωντανής μου
 σικής.\nΗ είσοδος θα γίνεται με σειρά προτεραιότητας\, με την επίδειξη φοι
 τητικής ταυτότητας ή άλλου εγγράφου που αποδεικνύει τη φοιτητική ιδιότητα.
 \n  http://www.tainiothiki.gr/el/aithouses/programma/event/2116-masterclas
 s-jean-gabriel-periot
DTSTART:20251211T183000Z
DTEND:20251211T203000Z
LOCATION:Γαλλικό Ινστιτούτο Ελλάδος (Σίνα 31\, Αθήνα ΤΚ 106 80)
SUMMARY:Masterclass: Jean-Gabriel Périot
URL:http://www.tainiothiki.gr/el/aithouses/programma/event/2116-masterclass
 -jean-gabriel-periot
END:VEVENT
END:VCALENDAR
