BEGIN:VCALENDAR
VERSION:2.0
PRODID:-//http://www.tainiothiki.gr///NONSGML kigkonsult.se iCalcreator 2.10.15//
METHOD:PUBLISH
BEGIN:VEVENT
UID:20260421T020437EEST-9640xUVPva@http://www.tainiothiki.gr/
DTSTAMP:20260420T230437Z
DESCRIPTION:14ο Φεστιβάλ Πρωτοποριακού Κινηματογράφου Αθηνών | 14th Athens 
 Avant Garde Film Festival\nINSTITUT FRANÇAIS DE GRÈCE\nΠΕΜΠΤΗ 11 ΔΕΚΕΜΒΡΙΟ
 Υ\n19:00 MAKING FILMS POLITICALLY\nΕπιστροφή στη Ρενς [θραύσματα] / Retour
  à Reims [fragments] / Returning to Reims [fragments] (Jean-Gabriel Périot
  2021\, Ντοκιμαντέρ / Documentary\, 83’)Προσωπικό ημερολόγιο / Journal\, i
 ntime / Intimate Diary (Jean-Gabriel Périot 2001\, Ντοκιμαντέρ / Documenta
 ry\, 2’)\nΠαρουσία του σκηνοθέτη / Director in attendance\nΕίσοδος ελεύθερ
 η. Θα τηρηθεί σειρά προτεραιότητας. / Free admission.\n \n\n\n\n\n\n\n\nΕΙ
 ΣΙΤΗΡΙΑ\nΑΙΘΟΥΣΕΣ\nΕισιτήρια (ΑΙΘΟΥΣΕΣ): 7€ (γενική είσοδος)\nΠακέτα:Κάρτα
  5 προβολών 30€ - 25€ μειωμένο* (θα διατεθούν μέχρι 40 κάρτες)Κάρτα 10 προ
 βολών 50€ - 40€ μειωμένο* (θα διατεθούν μέχρι 30 κάρτες)\n*Το μειωμένο εισ
 ιτήριο αφορά στις παρακάτω κατηγορίες:μαθητές\, φοιτητές\, άτομα άνω των 6
 5 ετών\, άνεργοι\, άνθρωποι με αναπηρία – ΑμεΑ (ισχύει και για έναν/μία συ
 νοδό)\, δάσκαλοι-καθηγητές\, ατέλειες.\nΗλεκτρονική προπώληση εισιτηρίων σ
 το more.com\n\nΕιδική προσφορά για φοιτητές/φοιτήτριες:\nΤο Φεστιβάλ προσφ
 έρει δωρεάν είσοδο στους πρώτους 30 φοιτητές για όλες τις προβολές που θα 
 πραγματοποιηθούν στην Κεντρική Αίθουσα Α της Ταινιοθήκης της Ελλάδος\, με 
 εξαίρεση την προβολή της ταινίας έναρξης\, της ταινίας απονομής των βραβεί
 ων\, καθώς και την προβολή της βωβής ταινίας συνοδεία ζωντανής μουσικής.\n
 Η είσοδος θα γίνεται με σειρά προτεραιότητας\, με την επίδειξη φοιτητικής 
 ταυτότητας ή άλλου εγγράφου που αποδεικνύει τη φοιτητική ιδιότητα.\n  http
 ://www.tainiothiki.gr/el/aithouses/programma/event/2115-making-films-polit
 ically
DTSTART:20251211T170000Z
DTEND:20251211T182500Z
LOCATION:Γαλλικό Ινστιτούτο Ελλάδος (Σίνα 31\, Αθήνα ΤΚ 106 80)
SUMMARY:MAKING FILMS POLITICALLY
URL:http://www.tainiothiki.gr/el/aithouses/programma/event/2115-making-film
 s-politically
END:VEVENT
END:VCALENDAR
