BEGIN:VCALENDAR
VERSION:2.0
PRODID:-//http://www.tainiothiki.gr///NONSGML kigkonsult.se iCalcreator 2.10.15//
METHOD:PUBLISH
BEGIN:VEVENT
UID:20260421T053927EEST-61856j6Uuj@http://www.tainiothiki.gr/
DTSTAMP:20260421T023927Z
DESCRIPTION:ΑΙΘΟΥΣΑ Β\nΚΥΡΙΑΚΗ 30/11 \n9ο Φεστιβάλ WIFT GR\n21:30 Cotton Qu
 een / H Βασίλισσα του Βαμβακιού Μυθοπλασία\,  Γερμανία\, Γαλλία\, Παλαιστί
 νη\, Κατάρ\, Σαουδική Αραβία\, Σουδάν\, 2025\, 93’|  Σκηνοθεσία-Σενάριο: Σ
 ουζάνα Μιργκανί  \nΕίσοδος με προσκλήσεις\n \n\n\n- Είσοδος στην εκδήλωση 
 9ο ΦΕΣΤΙΒΑΛ WIFT GR:  \nΗ είσοδος στις προβολές και τις εκδηλώσεις του Φεσ
 τιβάλ θα είναι ελεύθερη.\n  http://www.tainiothiki.gr/el/aithouses/program
 ma/event/2071-9o-festival-wift-gr
DTSTART:20251130T193000Z
DTEND:20251130T210000Z
LOCATION:Αίθουσα Β (ΙΕΡΑ ΟΔΟΣ 48\, 104 35\, ΚΕΡΑΜΕΙΚΟΣ\, ΑΘΗΝΑ)
SUMMARY:9ο Φεστιβάλ WIFT GR
URL:http://www.tainiothiki.gr/el/aithouses/programma/event/2071-9o-festival
 -wift-gr
END:VEVENT
END:VCALENDAR
