BEGIN:VCALENDAR
VERSION:2.0
PRODID:-//http://www.tainiothiki.gr///NONSGML kigkonsult.se iCalcreator 2.10.15//
METHOD:PUBLISH
BEGIN:VEVENT
UID:20260423T125755EEST-1192SsBzve@http://www.tainiothiki.gr/
DTSTAMP:20260423T095755Z
DESCRIPTION:ΑΙΘΟΥΣΑ Α\nΠΕΜΠΤΗ 27/11 \n19:30 Τελετή Έναρξης (Είσοδος με προσ
 κλήσεις)(19:00 Ώρα προσέλευσης)\nΠαρουσιάστρια Τελετής Έναρξης: Έλλη Τρίγγ
 ου\n21.00 Αρκουδότρυπα – Q&amp\;A παρουσία συντελεστώνΜυθοπλασία\,  Ελλάδα
 \, Ηνωμένο Βασίλειο\, 2025\, 127’ | Σκηνοθεσία: Χρυσιάννα Παπαδάκη\, Στέργ
 ιος Ντινόπουλος\n \n\n\n- Είσοδος στην εκδήλωση 8ο ΦΕΣΤΙΒΑΛ WIFT GR:  \nΗ 
 είσοδος στις προβολές και τις εκδηλώσεις του Φεστιβάλ θα είναι ελεύθερη.\n
   http://www.tainiothiki.gr/el/aithouses/programma/event/2065-9o-festival-
 wift-gr
DTSTART:20251127T173000Z
DTEND:20251127T194000Z
LOCATION:Αίθουσα Α (ΙΕΡΑ ΟΔΟΣ 48\, 104 35\, ΚΕΡΑΜΕΙΚΟΣ\, ΑΘΗΝΑ)
SUMMARY:9ο Φεστιβάλ WIFT GR
URL:http://www.tainiothiki.gr/el/aithouses/programma/event/2065-9o-festival
 -wift-gr
END:VEVENT
END:VCALENDAR
