BEGIN:VCALENDAR
VERSION:2.0
PRODID:-//http://www.tainiothiki.gr///NONSGML kigkonsult.se iCalcreator 2.10.15//
METHOD:PUBLISH
BEGIN:VEVENT
UID:20260423T131811EEST-3502axuCzt@http://www.tainiothiki.gr/
DTSTAMP:20260423T101811Z
DESCRIPTION:ΑΙΘΟΥΣΑ Α\nΝίκος Καβουκίδης: Μια ζωή μαρτυρίες\nΤετάρτη 26 Νοεμ
 βρίου\n22:00 Ληστεία στην Αθήνα (97’)\n\n \n\nΕΙΣΙΤΗΡΙΑ\n7 ευρώ (γενική εί
 σοδος) Ηλεκτρονική προπώληση εδώ\n http://www.tainiothiki.gr/el/aithouses/
 programma/event/2060-listeia-stin-athina
DTSTART:20251126T200000Z
DTEND:20251126T214000Z
LOCATION:Αίθουσα Α (ΙΕΡΑ ΟΔΟΣ 48\, 104 35\, ΚΕΡΑΜΕΙΚΟΣ\, ΑΘΗΝΑ)
SUMMARY:Ληστεία στην Αθήνα 
URL:http://www.tainiothiki.gr/el/aithouses/programma/event/2060-listeia-sti
 n-athina
END:VEVENT
END:VCALENDAR
