BEGIN:VCALENDAR
VERSION:2.0
PRODID:-//http://www.tainiothiki.gr///NONSGML kigkonsult.se iCalcreator 2.10.15//
METHOD:PUBLISH
BEGIN:VEVENT
UID:20260421T033720EEST-04102POiTj@http://www.tainiothiki.gr/
DTSTAMP:20260421T003720Z
DESCRIPTION:ΑΙΘΟΥΣΑ Α\nΝίκος Καβουκίδης: Μια ζωή μαρτυρίες\nΤετάρτη 26 Νοεμ
 βρίου\n18:30 Λόλα (104’)\n\n \n\nΕΙΣΙΤΗΡΙΑ\n7 ευρώ (γενική είσοδος) Ηλεκτρ
 ονική προπώληση εδώ\n http://www.tainiothiki.gr/el/aithouses/programma/eve
 nt/2058-lola
DTSTART:20251126T163000Z
DTEND:20251126T191000Z
LOCATION:Αίθουσα Α (ΙΕΡΑ ΟΔΟΣ 48\, 104 35\, ΚΕΡΑΜΕΙΚΟΣ\, ΑΘΗΝΑ)
SUMMARY:Λόλα 
URL:http://www.tainiothiki.gr/el/aithouses/programma/event/2058-lola
END:VEVENT
END:VCALENDAR
