BEGIN:VCALENDAR
VERSION:2.0
PRODID:-//http://www.tainiothiki.gr///NONSGML kigkonsult.se iCalcreator 2.10.15//
METHOD:PUBLISH
BEGIN:VEVENT
UID:20260421T054138EEST-2584ldaUTL@http://www.tainiothiki.gr/
DTSTAMP:20260421T024138Z
DESCRIPTION:ΑΙΘΟΥΣΑ Α\nΝίκος Καβουκίδης: Μια ζωή μαρτυρίες\nΤρίτη 25 Νοεμβρ
 ίου\n19:00 Μπάιρον\, μπαλάντα για έναν δαίμονα (138’)\n\n\n \n\nΕΙΣΙΤΗΡΙΑ
 \n7 ευρώ (γενική είσοδος) Ηλεκτρονική προπώληση εδώ\n http://www.tainiothi
 ki.gr/el/aithouses/programma/event/2056-bairon-balanta-gia-enan-daimona
DTSTART:20251125T170000Z
DTEND:20251125T192000Z
LOCATION:Αίθουσα Α (ΙΕΡΑ ΟΔΟΣ 48\, 104 35\, ΚΕΡΑΜΕΙΚΟΣ\, ΑΘΗΝΑ)
SUMMARY:Μπάιρον\, μπαλάντα για έναν δαίμονα 
URL:http://www.tainiothiki.gr/el/aithouses/programma/event/2056-bairon-bala
 nta-gia-enan-daimona
END:VEVENT
END:VCALENDAR
