BEGIN:VCALENDAR
VERSION:2.0
PRODID:-//http://www.tainiothiki.gr///NONSGML kigkonsult.se iCalcreator 2.10.15//
METHOD:PUBLISH
BEGIN:VEVENT
UID:20260421T033720EEST-9770romen8@http://www.tainiothiki.gr/
DTSTAMP:20260421T003720Z
DESCRIPTION:ΑΙΘΟΥΣΑ Α\nΝίκος Καβουκίδης: Μια ζωή μαρτυρίες\nΔευτέρα 24 Νοεμ
 βρίου\n19:30 Προσέλευση\n20:00 Χαιρετισμοί\n20:30 Μαρτυρίες (102’)\nΕίσοδο
 ς με προσκλήσεις / Θα διατεθεί περιορισμένος αριθμός εισιτηρίων\n\n \n\nΕΙ
 ΣΙΤΗΡΙΑ\n7 ευρώ (γενική είσοδος) Ηλεκτρονική προπώληση εδώ\n http://www.ta
 iniothiki.gr/el/aithouses/programma/event/2055-martyries
DTSTART:20251124T183000Z
DTEND:20251124T201000Z
LOCATION:Αίθουσα Α (ΙΕΡΑ ΟΔΟΣ 48\, 104 35\, ΚΕΡΑΜΕΙΚΟΣ\, ΑΘΗΝΑ)
SUMMARY:Μαρτυρίες
URL:http://www.tainiothiki.gr/el/aithouses/programma/event/2055-martyries
END:VEVENT
END:VCALENDAR
