BEGIN:VCALENDAR
VERSION:2.0
PRODID:-//http://www.tainiothiki.gr///NONSGML kigkonsult.se iCalcreator 2.10.15//
METHOD:PUBLISH
BEGIN:VEVENT
UID:20260421T034430EEST-9364ksm3Dw@http://www.tainiothiki.gr/
DTSTAMP:20260421T004430Z
DESCRIPTION:ΑΙΘΟΥΣΑ Α\nCINEMA MADE IN ITALY/ ATHENS 2025\nΚυριακή 23 Νοεμβρ
 ίου\n19:00 Το παράθυρο στο Λούνα Παρκ | La finestra sul Luna Park | The Wi
 ndow to Luna Park (Luigi Comencini\, 90')\n\n \n\nΕΙΣΙΤΗΡΙΑ\n6 ευρώ (γενικ
 ή είσοδος) / Tρεις προβολές: 10 ευρώΗλεκτρονική προπώληση εδώ\n http://www
 .tainiothiki.gr/el/aithouses/programma/event/2053-to-parathyro-sto-loyna-p
 ark-the-window-to-luna-park
DTSTART:20251123T170000Z
DTEND:20251123T183000Z
LOCATION:Αίθουσα Α (ΙΕΡΑ ΟΔΟΣ 48\, 104 35\, ΚΕΡΑΜΕΙΚΟΣ\, ΑΘΗΝΑ)
SUMMARY:Το παράθυρο στο Λούνα Παρκ | The Window to Luna Park
URL:http://www.tainiothiki.gr/el/aithouses/programma/event/2053-to-parathyr
 o-sto-loyna-park-the-window-to-luna-park
END:VEVENT
END:VCALENDAR
