BEGIN:VCALENDAR
VERSION:2.0
PRODID:-//http://www.tainiothiki.gr///NONSGML kigkonsult.se iCalcreator 2.10.15//
METHOD:PUBLISH
BEGIN:VEVENT
UID:20260421T034028EEST-13891innfe@http://www.tainiothiki.gr/
DTSTAMP:20260421T004028Z
DESCRIPTION:ΑΙΘΟΥΣΑ Α\nCINEMA MADE IN ITALY/ ATHENS 2025\nΣάββατο 22 Νοεμβρ
 ίου\n21:00 Ελίζα | Elisa (Leonardo Di Costanzo\, 110')\n\n \n\nΕΙΣΙΤΗΡΙΑ\n
 6 ευρώ (γενική είσοδος) / Tρεις προβολές: 10 ευρώΗλεκτρονική προπώληση εδώ
 \n http://www.tainiothiki.gr/el/aithouses/programma/event/2052-eliza-elisa
DTSTART:20251122T190000Z
DTEND:20251122T205000Z
LOCATION:Αίθουσα Α (ΙΕΡΑ ΟΔΟΣ 48\, 104 35\, ΚΕΡΑΜΕΙΚΟΣ\, ΑΘΗΝΑ)
SUMMARY:Ελίζα | Elisa 
URL:http://www.tainiothiki.gr/el/aithouses/programma/event/2052-eliza-elisa
END:VEVENT
END:VCALENDAR
