BEGIN:VCALENDAR
VERSION:2.0
PRODID:-//http://www.tainiothiki.gr///NONSGML kigkonsult.se iCalcreator 2.10.15//
METHOD:PUBLISH
BEGIN:VEVENT
UID:20260423T141911EEST-2850XzUhpZ@http://www.tainiothiki.gr/
DTSTAMP:20260423T111911Z
DESCRIPTION:ΑΙΘΟΥΣΑ Α\nCINEMA MADE IN ITALY/ ATHENS 2025\nΠαρασκευή 21 Νοεμ
 βρίου\n21:00 Ο χρόνος που χρειάζεται | Il tempo che ci vuole | The time it
  takes (Francesca Comencini\, 110')\n\n \n\nΕΙΣΙΤΗΡΙΑ\n6 ευρώ (γενική είσο
 δος) / Tρεις προβολές: 10 ευρώΗλεκτρονική προπώληση εδώ\n http://www.taini
 othiki.gr/el/aithouses/programma/event/2050-o-xronos-pou-xreiazetai-the-ti
 me-it-takes
DTSTART:20251121T190000Z
DTEND:20251121T205000Z
LOCATION:Αίθουσα Α (ΙΕΡΑ ΟΔΟΣ 48\, 104 35\, ΚΕΡΑΜΕΙΚΟΣ\, ΑΘΗΝΑ)
SUMMARY:Ο χρόνος που χρειάζεται | The time it takes
URL:http://www.tainiothiki.gr/el/aithouses/programma/event/2050-o-xronos-po
 u-xreiazetai-the-time-it-takes
END:VEVENT
END:VCALENDAR
