BEGIN:VCALENDAR
VERSION:2.0
PRODID:-//http://www.tainiothiki.gr///NONSGML kigkonsult.se iCalcreator 2.10.15//
METHOD:PUBLISH
BEGIN:VEVENT
UID:20260423T131225EEST-9688cANujf@http://www.tainiothiki.gr/
DTSTAMP:20260423T101225Z
DESCRIPTION:ΑΙΘΟΥΣΑ Α\nCINEMA MADE IN ITALY/ ATHENS 2025\nΠαρασκευή 21 Νοεμ
 βρίου\n19:00 Η Απαγωγή της Αραμπέλα | Il rapimento di Arabella | The kidna
 pping of Arabella (Carolina Cavalli\, 94')\n\n \n\nΕΙΣΙΤΗΡΙΑ\n6 ευρώ (γενι
 κή είσοδος) / Tρεις προβολές: 10 ευρώΗλεκτρονική προπώληση εδώ\n http://ww
 w.tainiothiki.gr/el/aithouses/programma/event/2049-i-apagogi-tis-arampela-
 the-kidnapping-of-arabella
DTSTART:20251121T170000Z
DTEND:20251121T183500Z
LOCATION:Αίθουσα Α (ΙΕΡΑ ΟΔΟΣ 48\, 104 35\, ΚΕΡΑΜΕΙΚΟΣ\, ΑΘΗΝΑ)
SUMMARY:Η Απαγωγή της Αραμπέλα | The kidnapping of Arabella
URL:http://www.tainiothiki.gr/el/aithouses/programma/event/2049-i-apagogi-t
 is-arampela-the-kidnapping-of-arabella
END:VEVENT
END:VCALENDAR
