BEGIN:VCALENDAR
VERSION:2.0
PRODID:-//http://www.tainiothiki.gr///NONSGML kigkonsult.se iCalcreator 2.10.15//
METHOD:PUBLISH
BEGIN:VEVENT
UID:20260423T023442EEST-5460GxA1hz@http://www.tainiothiki.gr/
DTSTAMP:20260422T233442Z
DESCRIPTION:ΑΙΘΟΥΣΑ Α\nΛάκης Παπαστάθης - Σε πρώτο πλάνο\nΚυριακή 27 Απριλί
 ου\n21:15 Ταξίδι στη Μυτιλήνη (2010. 105')\nΠρολογίζουν οι ηθοποιοί Μαρία 
 Ζορμπά και Χρήστος Χατζηπαναγιώτης\n\n\n \n\nΕΙΣΙΤΗΡΙΑ\n6 ευρώ (γενική είσ
 οδος)\nΚλείστε ηλεκτρονικά τα εισιτήριά σας στο: https://tickets.tainiothi
 ki.gr/\n   \n http://www.tainiothiki.gr/el/aithouses/programma/event/1896-
 copy-of-taksidi-sti-mytilini
DTSTART:20250427T183000Z
DTEND:20250427T191500Z
LOCATION:Αίθουσα Α (ΙΕΡΑ ΟΔΟΣ 48\, 104 35\, ΚΕΡΑΜΕΙΚΟΣ\, ΑΘΗΝΑ)
SUMMARY:Copy of Ταξίδι στη Μυτιλήνη
URL:http://www.tainiothiki.gr/el/aithouses/programma/event/1896-copy-of-tak
 sidi-sti-mytilini
END:VEVENT
END:VCALENDAR
