BEGIN:VCALENDAR
VERSION:2.0
PRODID:-//http://www.tainiothiki.gr///NONSGML kigkonsult.se iCalcreator 2.10.15//
METHOD:PUBLISH
BEGIN:VEVENT
UID:20260424T134522EEST-8849UUfXeM@http://www.tainiothiki.gr/
DTSTAMP:20260424T104522Z
DESCRIPTION:ΑΙΘΟΥΣΑ Α\nΛάκης Παπαστάθης - Σε πρώτο πλάνο\nΚυριακή 27 Απριλί
 ου\n19:00 Παρασκήνιο\nΣπαράγματα ελληνικής ιστορίας από την Ταινιοθήκη της
  Ελλάδας (2006\, 50’)\nΕίσοδος ελεύθερη\n\n\n    \n http://www.tainiothiki
 .gr/el/aithouses/programma/event/1830-paraskinio
DTSTART:20250427T160000Z
DTEND:20250427T165000Z
LOCATION:Αίθουσα Α (ΙΕΡΑ ΟΔΟΣ 48\, 104 35\, ΚΕΡΑΜΕΙΚΟΣ\, ΑΘΗΝΑ)
SUMMARY:Παρασκήνιο
URL:http://www.tainiothiki.gr/el/aithouses/programma/event/1830-paraskinio
END:VEVENT
END:VCALENDAR
