BEGIN:VCALENDAR
VERSION:2.0
PRODID:-//http://www.tainiothiki.gr///NONSGML kigkonsult.se iCalcreator 2.10.15//
METHOD:PUBLISH
BEGIN:VEVENT
UID:20260423T022542EEST-7051v6kvBF@http://www.tainiothiki.gr/
DTSTAMP:20260422T232542Z
DESCRIPTION:ΑΙΘΟΥΣΑ Α\nΛάκης Παπαστάθης - Σε πρώτο πλάνο\nΚυριακή 27 Απριλί
 ου\n17:00 Παρασκήνιο\nΗ αναβίωση του αρχαίου δράματος / Οι Δελφικές Γιορτέ
 ς του 1927 (1998\, 51’)Βασίλης Μάρος\, Ο εθνικός καταγραφέας (2005\, 50’)
 \nΕίσοδος ελεύθερη\n\n\n    \n http://www.tainiothiki.gr/el/aithouses/prog
 ramma/event/1829-paraskinio
DTSTART:20250427T140000Z
DTEND:20250427T154000Z
LOCATION:Αίθουσα Α (ΙΕΡΑ ΟΔΟΣ 48\, 104 35\, ΚΕΡΑΜΕΙΚΟΣ\, ΑΘΗΝΑ)
SUMMARY:Παρασκήνιο
URL:http://www.tainiothiki.gr/el/aithouses/programma/event/1829-paraskinio
END:VEVENT
END:VCALENDAR
