BEGIN:VCALENDAR
VERSION:2.0
PRODID:-//http://www.tainiothiki.gr///NONSGML kigkonsult.se iCalcreator 2.10.15//
METHOD:PUBLISH
BEGIN:VEVENT
UID:20260424T134522EEST-9683nFVWp4@http://www.tainiothiki.gr/
DTSTAMP:20260424T104522Z
DESCRIPTION:ΑΙΘΟΥΣΑ Α\nΛάκης Παπαστάθης - Σε πρώτο πλάνο\nΠαρασκευή 25 Απρι
 λίου\n19:00 Παρασκήνιο\nΜανόλης Αναγνωστάκης (1983\, 52’)Παναγιώτης Φειδάκ
 ης\, Το ανθισμένο χέρι (2006\, 51’)\nΕίσοδος ελεύθερη\n\n\n    \n http://w
 ww.tainiothiki.gr/el/aithouses/programma/event/1827-paraskinio
DTSTART:20250425T160000Z
DTEND:20250425T174500Z
LOCATION:Αίθουσα Α (ΙΕΡΑ ΟΔΟΣ 48\, 104 35\, ΚΕΡΑΜΕΙΚΟΣ\, ΑΘΗΝΑ)
SUMMARY:Παρασκήνιο
URL:http://www.tainiothiki.gr/el/aithouses/programma/event/1827-paraskinio
END:VEVENT
END:VCALENDAR
