BEGIN:VCALENDAR
VERSION:2.0
PRODID:-//http://www.tainiothiki.gr///NONSGML kigkonsult.se iCalcreator 2.10.15//
METHOD:PUBLISH
BEGIN:VEVENT
UID:20260425T152048EEST-2773jWXUFs@http://www.tainiothiki.gr/
DTSTAMP:20260425T122048Z
DESCRIPTION:CINEMA MADE IN ITALY/ ATHENS 2024\nΑΙΘΟΥΣΑ Α\nΤρίτη 26 Νοεμβρίο
 υ \n19:00 Δίχως βάρος | Weightless (Sara Fgaier\, 94')\n\n\n\n\nΕΙΣΙΤΗΡΙΑ
 \nΕισιτήριο: 5€. Κάρτα 3 προβολών: 10€\nΗλεκτρονική προπώληση: https://tic
 kets.tainiothiki.gr/\n\n \n http://www.tainiothiki.gr/el/aithouses/program
 ma/event/1583-cmii-dixos-varos-weightless
DTSTART:20241126T170000Z
DTEND:20241126T183500Z
LOCATION:Αίθουσα Α (ΙΕΡΑ ΟΔΟΣ 48\, 104 35\, ΚΕΡΑΜΕΙΚΟΣ\, ΑΘΗΝΑ)
SUMMARY:CΜΙΙ/ Δίχως βάρος | Weightless
URL:http://www.tainiothiki.gr/el/aithouses/programma/event/1583-cmii-dixos-
 varos-weightless
END:VEVENT
END:VCALENDAR
