BEGIN:VCALENDAR
VERSION:2.0
PRODID:-//http://www.tainiothiki.gr///NONSGML kigkonsult.se iCalcreator 2.10.15//
METHOD:PUBLISH
BEGIN:VEVENT
UID:20260421T210509EEST-6575ucWPFD@http://www.tainiothiki.gr/
DTSTAMP:20260421T180509Z
DESCRIPTION:\n\n\nΔευτέρα | Monday 14.09.2020\n22:30 Αόρατη Χίλμα | Beyond 
 the Visible - Hilma af Klint\, Halina Dyrschka\, 93'\, 2019\nΠροβολή στο π
 λαίσιο του αφιερώματος Art + Docs: Στο μυαλό του καλλιτέχνη\n\n\n\n\n\nΕισ
 ιτήρια 5.00€ από το ταμείο της Ταινιοθήκης.\n\n\n\n\n\n http://www.tainiot
 hiki.gr/el/aithouses/programma/event/150-aorati-xilma-beyond-the-visible-h
 ilma-af-klint
DTSTART:20200914T193000Z
DTEND:20200914T205500Z
LOCATION:Θερινό Λαΐς (ΙΕΡΑ ΟΔΟΣ 48\, 104 35\, ΚΕΡΑΜΕΙΚΟΣ\, ΑΘΗΝΑ	)
SUMMARY:Αόρατη Χίλμα | Beyond the Visible - Hilma af Klint
URL:http://www.tainiothiki.gr/el/aithouses/programma/event/150-aorati-xilma
 -beyond-the-visible-hilma-af-klint
END:VEVENT
END:VCALENDAR
