BEGIN:VCALENDAR
VERSION:2.0
PRODID:-//http://www.tainiothiki.gr///NONSGML kigkonsult.se iCalcreator 2.10.15//
METHOD:PUBLISH
BEGIN:VEVENT
UID:20260421T210153EEST-59859dodXu@http://www.tainiothiki.gr/
DTSTAMP:20260421T180153Z
DESCRIPTION:\nΔευτέρα | Monday 14.09.2020\n20:30 Η Πρόταση | The Proposal\,
  Jill Magid\, 86'\, 2018\nΠροβολή στο πλαίσιο του αφιερώματος Art + Docs: 
 Στο μυαλό του καλλιτέχνη\n\n\n\n\n\nΕισιτήρια 5.00€ από το ταμείο της Ταιν
 ιοθήκης.\n\n\n http://www.tainiothiki.gr/el/aithouses/programma/event/149-
 i-protasi-the-proposal
DTSTART:20200914T173000Z
DTEND:20200914T191500Z
LOCATION:Θερινό Λαΐς (ΙΕΡΑ ΟΔΟΣ 48\, 104 35\, ΚΕΡΑΜΕΙΚΟΣ\, ΑΘΗΝΑ	)
SUMMARY:Η Πρόταση | The Proposal
URL:http://www.tainiothiki.gr/el/aithouses/programma/event/149-i-protasi-th
 e-proposal
END:VEVENT
END:VCALENDAR
