BEGIN:VCALENDAR
VERSION:2.0
PRODID:-//http://www.tainiothiki.gr///NONSGML kigkonsult.se iCalcreator 2.10.15//
METHOD:PUBLISH
BEGIN:VEVENT
UID:20260425T194616EEST-0466UvZUd0@http://www.tainiothiki.gr/
DTSTAMP:20260425T164616Z
DESCRIPTION:«Μία τόσο κοντινή παρουσία»: Αφιέρωμα στον Σταύρο Τσιώλη\nΘΕΡΙΝ
 ΟΣ ΚΙΝΗΜΑΤΟΓΡΑΦΟΣ ΛΑΪΣ\nΠαρασκευή 06 Σεπτεμβρίου\n20:30 Ας περιμένουν οι γ
 υναίκες (1998\, 87')\nΠρολογίζουν οι Γιάννης Ζουγανέλης\, ηθοποιός-μουσικό
 ς\, και Μελέτης Μοίρας\, σκηνοθέτης\nΜετά την προβολή της ταινίας θα ακολο
 υθήει live ερμηνεία τραγουδιών από ταινίες του Σταύρου Τσιώλη.Τραγουδούν ο
 ι: Γιάννης Ζουγανέλης\, Παύλος Κοντογιαννίδης και Κατερίνα Τσιώλη. Πιάνο: 
 Θαλής Τριανταφύλλου. Κιθάρα: Άγγελος Χατζηγιάννης.\n \n\n\n\n\nΕΙΣΙΤΗΡΙΑ\n
 Εισιτήριο: 6€ ανά προβολή Κάρτα 3 προβολών / 12 €\nΗλεκτρονική προπώληση: 
 https://tickets.tainiothiki.gr/\nΣημειώνεται πως η κάρτα πολλαπλών προβολώ
 ν είναι διαθέσιμη μόνο από το φυσικό ταμείο της Ταινιοθήκης. \n http://www
 .tainiothiki.gr/el/aithouses/programma/event/1487-as-perimenoun-oi-gynaike
 s
DTSTART:20240906T173000Z
DTEND:20240906T190000Z
LOCATION:Θερινό Λαΐς (ΙΕΡΑ ΟΔΟΣ 48\, 104 35\, ΚΕΡΑΜΕΙΚΟΣ\, ΑΘΗΝΑ	)
SUMMARY:Ας περιμένουν οι γυναίκες
URL:http://www.tainiothiki.gr/el/aithouses/programma/event/1487-as-perimeno
 un-oi-gynaikes
END:VEVENT
END:VCALENDAR
