BEGIN:VCALENDAR
VERSION:2.0
PRODID:-//http://www.tainiothiki.gr///NONSGML kigkonsult.se iCalcreator 2.10.15//
METHOD:PUBLISH
BEGIN:VEVENT
UID:20260426T035522EEST-14151Ehuud@http://www.tainiothiki.gr/
DTSTAMP:20260426T005522Z
DESCRIPTION:Ημέρα Ελληνικού Κινηματογράφου\nΑΙΘΟΥΣΑ Α\nΤρίτη 26 Μαρτίου\n18
 :30 Midnight Skin (Μανώλης Μαυρής\, 2023\, 40’) / Αγία Έμυ (Αρασέλη Λαιμού
 \, 2021\, 111’)\n\nΑγία Έμυ\n\n\nMidnight Skin\n\n\n\n\nΕΙΣΙΤΗΡΙΑ\nΕισιτήρ
 ιο: 3€ ανά προβολή \nΗλεκτρονική προπώληση: https://tickets.tainiothiki.gr
 /\n http://www.tainiothiki.gr/el/aithouses/programma/event/1355-agia-emy-m
 idnight-skin-im-ellinikoy-kin-fou
DTSTART:20240326T163000Z
DTEND:20240326T190000Z
LOCATION:Αίθουσα Α (ΙΕΡΑ ΟΔΟΣ 48\, 104 35\, ΚΕΡΑΜΕΙΚΟΣ\, ΑΘΗΝΑ)
SUMMARY:Αγία Έμυ & Midnight Skin / Ημ. Ελληνικού Κιν/φου
URL:http://www.tainiothiki.gr/el/aithouses/programma/event/1355-agia-emy-mi
 dnight-skin-im-ellinikoy-kin-fou
END:VEVENT
END:VCALENDAR
