BEGIN:VCALENDAR
VERSION:2.0
PRODID:-//http://www.tainiothiki.gr///NONSGML kigkonsult.se iCalcreator 2.10.15//
METHOD:PUBLISH
BEGIN:VEVENT
UID:20260426T035430EEST-1237ZD4J7w@http://www.tainiothiki.gr/
DTSTAMP:20260426T005430Z
DESCRIPTION: Νέος Φινλανδικός Κινηματογράφος\nΑΙΘΟΥΣΑ Α\nΤετάρτη 27 Μαρτίου
 \n19:45 Ο παράδεισος του καραόκε / Karaoke paradise / Karaokeparatiisi \n(
 Einari Paakkanen\, Φινλανδία\, 2022\, ντοκιμαντέρ\, 75’)\n\n\n\n\nΕΙΣΙΤΗΡΙ
 Α\nΕισιτήριο: 5€ ανά προβολή Κάρτα 3 προβολών / 10 €\nΗλεκτρονική προπώλησ
 η: https://tickets.tainiothiki.gr/\nΣημειώνεται πως η κάρτα πολλαπλών προβ
 ολών είναι διαθέσιμη μόνο από το φυσικό ταμείο της Ταινιοθήκης. \n http://
 www.tainiothiki.gr/el/aithouses/programma/event/1351-o-paradeisos-tou-kara
 oke-karaoke-paradise-karaokeparatiisi
DTSTART:20240327T174500Z
DTEND:20240327T190000Z
LOCATION:Αίθουσα Α (ΙΕΡΑ ΟΔΟΣ 48\, 104 35\, ΚΕΡΑΜΕΙΚΟΣ\, ΑΘΗΝΑ)
SUMMARY:Ο παράδεισος του καραόκε / Karaoke paradise / Karaokeparatiisi 
URL:http://www.tainiothiki.gr/el/aithouses/programma/event/1351-o-paradeiso
 s-tou-karaoke-karaoke-paradise-karaokeparatiisi
END:VEVENT
END:VCALENDAR
