BEGIN:VCALENDAR
VERSION:2.0
PRODID:-//http://www.tainiothiki.gr///NONSGML kigkonsult.se iCalcreator 2.10.15//
METHOD:PUBLISH
BEGIN:VEVENT
UID:20260426T035514EEST-6927OTmKaz@http://www.tainiothiki.gr/
DTSTAMP:20260426T005514Z
DESCRIPTION: Νέος Φινλανδικός Κινηματογράφος\nΑΙΘΟΥΣΑ Β\nΤρίτη 26 Μαρτίου\n
 19:30 Ανελέητοι καιροί – Το τραγούδι της φροντίδας / Ruthless times – Song
  of care / Armotonta menoa – Hoivatyön lauluja\n(Susanna Helke\, Φινλανδία
 \, 2022\, ντοκιμαντέρ\, 92’)\n\n\n\n\nΕΙΣΙΤΗΡΙΑ\nΕισιτήριο: 5€ ανά προβολή
  Κάρτα 3 προβολών / 10 €\nΗλεκτρονική προπώληση: https://tickets.tainiothi
 ki.gr/\nΣημειώνεται πως η κάρτα πολλαπλών προβολών είναι διαθέσιμη μόνο απ
 ό το φυσικό ταμείο της Ταινιοθήκης. \n http://www.tainiothiki.gr/el/aithou
 ses/programma/event/1349-aneleitoi-kairoi-to-tragoydi-tis-frontidas-ruthle
 ss-times-song-of-care-armotonta-menoa-hoivatyoen-lauluja
DTSTART:20240326T173000Z
DTEND:20240326T190000Z
LOCATION:Αίθουσα Β (ΙΕΡΑ ΟΔΟΣ 48\, 104 35\, ΚΕΡΑΜΕΙΚΟΣ\, ΑΘΗΝΑ)
SUMMARY:Ανελέητοι καιροί – Το τραγούδι της φροντίδας / Ruthless times – Son
 g of care / Armotonta menoa – Hoivatyön lauluja
URL:http://www.tainiothiki.gr/el/aithouses/programma/event/1349-aneleitoi-k
 airoi-to-tragoydi-tis-frontidas-ruthless-times-song-of-care-armotonta-meno
 a-hoivatyoen-lauluja
END:VEVENT
END:VCALENDAR
