BEGIN:VCALENDAR
VERSION:2.0
PRODID:-//http://www.tainiothiki.gr///NONSGML kigkonsult.se iCalcreator 2.10.15//
METHOD:PUBLISH
BEGIN:VEVENT
UID:20260426T034957EEST-6394bwHHdH@http://www.tainiothiki.gr/
DTSTAMP:20260426T004957Z
DESCRIPTION: Νέος Φινλανδικός Κινηματογράφος\nΑΙΘΟΥΣΑ Α\nΔευτέρα 25 Μαρτίου
 \n19:15 Αουρόρα / Aurora\n(Miia Tervo\, Φινλανδία\, 2019\, μυθοπλασία\, 10
 6’)\n\n\n\n\nΕΙΣΙΤΗΡΙΑ\nΕισιτήριο: 5€ ανά προβολή Κάρτα 3 προβολών / 10 €
 \nΗλεκτρονική προπώληση: https://tickets.tainiothiki.gr/\nΣημειώνεται πως 
 η κάρτα πολλαπλών προβολών είναι διαθέσιμη μόνο από το φυσικό ταμείο της Τ
 αινιοθήκης. \n http://www.tainiothiki.gr/el/aithouses/programma/event/1347
 -aourora-aurora
DTSTART:20240325T171500Z
DTEND:20240325T191500Z
LOCATION:Αίθουσα Α (ΙΕΡΑ ΟΔΟΣ 48\, 104 35\, ΚΕΡΑΜΕΙΚΟΣ\, ΑΘΗΝΑ)
SUMMARY:Αουρόρα / Aurora 
URL:http://www.tainiothiki.gr/el/aithouses/programma/event/1347-aourora-aur
 ora
END:VEVENT
END:VCALENDAR
