BEGIN:VCALENDAR
VERSION:2.0
PRODID:-//http://www.tainiothiki.gr///NONSGML kigkonsult.se iCalcreator 2.10.15//
METHOD:PUBLISH
BEGIN:VEVENT
UID:20260424T134522EEST-4619uo2ShV@http://www.tainiothiki.gr/
DTSTAMP:20260424T104522Z
DESCRIPTION:ΘΕΡΙΝΟΣ ΚΙΝΗΜΑΤΟΓΡΑΦΟΣ ΛΑΪΣ\nΠΕΜΠΤΗ 02/07 - ΤΕΤΑΡΤΗ 08/0723.00 
  Έκλειψη | L’Eclisse Σκηνοθεσία: Μικελάντζελο ΆντονιόνιΔιάρκεια: 126'Χώρα:
  Ιταλία-ΓαλλίαΔιανομή: Bibliotheque\n\nΙταλο-γαλλική ταινία του Μικελάντζε
 λο Αντονιόνι\, με τους Μόνικα Βίτι\, Αλέν Ντελόν\, Φρανσίσκο Ραμπάλ.Η Βιτό
 ρια χωρίζει με τον μεγαλύτερό της εραστή Ρικάρντο\, περιπλανιέται στις αίθ
 ουσες του χρηματιστηρίου όπου η μητέρα της χάνει ένα τεράστιο ποσό\, κι έχ
 ει μια εφήμερη και χωρίς πάθος σχέση με ένα νεαρό χρηματιστή.Η Βιτόρια\, π
 ερισσότερο από τις άλλες ηρωίδες του Μικελάντζελο Αντονιόνι\, ζει σε μια κ
 ατάσταση διαρκούς κρίσης και υπαρξιακής αδράνειας\, που έχουν προκαλέσει η
  αποξένωση και η αδυναμία επικοινωνίας. Οι σχέσεις της Βιτόρια είναι συμπτ
 ωματικές\, άτονες\, χωρίς συγκινήσεις\, ενώ η ίδια ζει τη ζωή της σαν θεατ
 ής που βλέπει τα πάντα να γίνονται αντικείμενα μπροστά στα μάτια της. Με τ
 ην τρίτη ταινία της αριστουργηματικής τριλογίας του για την αποξένωση\, ο 
 Αντονιόνι προτείνει μια φαινομενολογία της ψυχοπαθολογίας της καθημερινής 
 ζωής\, την οποία δεν απομονώνει από τις κοινωνικές διεργασίες\, τους μηχαν
 ισμούς δηλαδή που ευθύνονται για την αλλοτρίωση του ατόμου. Πρόκειται για 
 την πιο ώριμη ταινία του σκηνοθέτη\, με σκηνές ανθολογίας όπως εκείνη του 
 χρηματιστηρίου\, που έχουν σημαδέψει την πορεία του μοντέρνου σινεμά. Ειδι
 κό Βραβείο της Επιτροπής στο Φεστιβάλ των Καννών.\n\n -Είσοδος για όλες τι
 ς αίθουσες: 7€\, 5€* (μειωμένο)Κάθε Πέμπτη ισχύει προσφορά εισόδου για 2 ά
 τομα με ένα εισιτήριο στα 7€ *Το μειωμένο εισιτήριο αφορά στις παρακάτω κα
 τηγορίες:μαθητές\, φοιτητές\, άτομα άνω των 65 ετών\, άνεργοι\, άνθρωποι μ
 ε αναπηρία – ΑμεΑ (ισχύει και για έναν/μία συνοδό)\, δάσκαλοι-καθηγητές\, 
 ατέλειες.\nΠρονόμια μελών σε ΜΜΕ-Αθηνόραμα Club (Αθηνόραμα): Από Δευτέρα έ
 ως και Πέμπτη\, ειδική τιμή € 5 http://www.tainiothiki.gr/el/aithouses/pro
 gramma/event/118-ekleipsi-l-eclisse
DTSTART:20200702T200000Z
DTEND:20200708T200000Z
LOCATION:Θερινό Λαΐς (ΙΕΡΑ ΟΔΟΣ 48\, 104 35\, ΚΕΡΑΜΕΙΚΟΣ\, ΑΘΗΝΑ	)
SUMMARY:Έκλειψη | L’Eclisse 
URL:http://www.tainiothiki.gr/el/aithouses/programma/event/118-ekleipsi-l-e
 clisse
END:VEVENT
END:VCALENDAR
